Package: cellmigRation Version: 1.15.0 Command: /home/biocbuild/R/R/bin/R CMD check --install=check:cellmigRation.install-out.txt --library=/home/biocbuild/R/R/site-library --no-vignettes --timings cellmigRation_1.15.0.tar.gz StartedAt: 2025-01-28 09:01:58 -0000 (Tue, 28 Jan 2025) EndedAt: 2025-01-28 09:04:25 -0000 (Tue, 28 Jan 2025) EllapsedTime: 147.1 seconds RetCode: 0 Status: OK CheckDir: cellmigRation.Rcheck Warnings: 0