Package: cellmigRation Version: 1.15.0 Command: /home/biocbuild/R/R/bin/R CMD INSTALL cellmigRation StartedAt: 2025-01-29 20:25:49 -0000 (Wed, 29 Jan 2025) EndedAt: 2025-01-29 20:26:10 -0000 (Wed, 29 Jan 2025) EllapsedTime: 21.2 seconds RetCode: 0 Status: OK