Package: cellmigRation Version: 1.15.0 Command: /home/biocbuild/bbs-3.21-bioc/R/bin/R CMD check --install=check:cellmigRation.install-out.txt --library=/home/biocbuild/bbs-3.21-bioc/R/site-library --timings cellmigRation_1.15.0.tar.gz StartedAt: 2025-02-04 20:43:56 -0500 (Tue, 04 Feb 2025) EndedAt: 2025-02-04 20:47:49 -0500 (Tue, 04 Feb 2025) EllapsedTime: 233.3 seconds RetCode: 0 Status: OK CheckDir: cellmigRation.Rcheck Warnings: 0