Package: cellmigRation Version: 1.15.0 Command: rm -rf cellmigRation.buildbin-libdir && mkdir cellmigRation.buildbin-libdir && E:\biocbuild\bbs-3.21-bioc\R\bin\R.exe CMD INSTALL --build --library=cellmigRation.buildbin-libdir cellmigRation_1.15.0.tar.gz StartedAt: 2025-02-10 07:24:24 -0500 (Mon, 10 Feb 2025) EndedAt: 2025-02-10 07:29:00 -0500 (Mon, 10 Feb 2025) EllapsedTime: 275.6 seconds RetCode: 0 Status: OK PackageFile: cellmigRation_1.15.0.zip PackageFileSize: 1.535 MiB