Package: cellmigRation Version: 1.15.0 Command: chmod a+r cellmigRation -R && E:\biocbuild\bbs-3.21-bioc\R\bin\R.exe CMD build --keep-empty-dirs --no-resave-data cellmigRation StartedAt: 2025-02-09 17:43:59 -0500 (Sun, 09 Feb 2025) EndedAt: 2025-02-09 17:47:15 -0500 (Sun, 09 Feb 2025) EllapsedTime: 195.9 seconds RetCode: 0 Status: OK PackageFile: cellmigRation_1.15.0.tar.gz PackageFileSize: 928.2 KiB