Package: cellxgenedp Version: 1.11.0 Command: /Library/Frameworks/R.framework/Resources/bin/R CMD INSTALL cellxgenedp StartedAt: 2025-02-09 15:15:20 -0500 (Sun, 09 Feb 2025) EndedAt: 2025-02-09 15:15:22 -0500 (Sun, 09 Feb 2025) EllapsedTime: 1.9 seconds RetCode: 0 Status: OK