Package: cellxgenedp Version: 1.11.0 Command: rm -rf cellxgenedp.buildbin-libdir && mkdir cellxgenedp.buildbin-libdir && E:\biocbuild\bbs-3.21-bioc\R\bin\R.exe CMD INSTALL --build --library=cellxgenedp.buildbin-libdir cellxgenedp_1.11.0.tar.gz StartedAt: 2025-02-10 07:24:50 -0500 (Mon, 10 Feb 2025) EndedAt: 2025-02-10 07:25:15 -0500 (Mon, 10 Feb 2025) EllapsedTime: 25.1 seconds RetCode: 0 Status: OK PackageFile: cellxgenedp_1.11.0.zip PackageFileSize: 513.3 KiB