Package: cellxgenedp Version: 1.11.0 Command: E:\biocbuild\bbs-3.21-bioc\R\bin\R.exe CMD check --no-multiarch --install=check:cellxgenedp.install-out.txt --library=E:\biocbuild\bbs-3.21-bioc\R\library --no-vignettes --timings cellxgenedp_1.11.0.tar.gz StartedAt: 2025-02-09 23:30:32 -0500 (Sun, 09 Feb 2025) EndedAt: 2025-02-09 23:33:40 -0500 (Sun, 09 Feb 2025) EllapsedTime: 188.3 seconds RetCode: 0 Status: OK CheckDir: cellxgenedp.Rcheck Warnings: 0