Package: cfDNAPro Version: 1.13.0 Command: /home/biocbuild/bbs-3.21-bioc/R/bin/R CMD check --install=check:cfDNAPro.install-out.txt --library=/home/biocbuild/bbs-3.21-bioc/R/site-library --timings cfDNAPro_1.13.0.tar.gz StartedAt: 2025-02-09 20:49:55 -0500 (Sun, 09 Feb 2025) EndedAt: 2025-02-09 20:54:25 -0500 (Sun, 09 Feb 2025) EllapsedTime: 270.5 seconds RetCode: 0 Status: WARNINGS CheckDir: cfDNAPro.Rcheck Warnings: 1