Package: cfDNAPro Version: 1.13.0 Command: /home/biocbuild/bbs-3.21-bioc/R/bin/R CMD INSTALL cfDNAPro StartedAt: 2025-02-09 15:34:02 -0500 (Sun, 09 Feb 2025) EndedAt: 2025-02-09 15:34:35 -0500 (Sun, 09 Feb 2025) EllapsedTime: 32.8 seconds RetCode: 0 Status: OK