Package: cfTools Version: 1.7.0 Maintainer: Ran Hu MaintainerEmail: huran at ucla.edu git_url: https://git.bioconductor.org/packages/cfTools git_branch: devel git_last_commit: f90509a git_last_commit_date: 2024-10-29 11:20:19 -0500 (Tue, 29 Oct 2024)