Package: cfTools Version: 1.7.0 Command: rm -rf cfTools.buildbin-libdir && mkdir cfTools.buildbin-libdir && /Users/biocbuild/BBS/utils/build-universal.sh cfTools_1.7.0.tar.gz /Library/Frameworks/R.framework/Resources/bin/R cfTools.buildbin-libdir StartedAt: 2025-02-09 22:08:53 -0500 (Sun, 09 Feb 2025) EndedAt: 2025-02-09 22:09:10 -0500 (Sun, 09 Feb 2025) EllapsedTime: 16.3 seconds RetCode: 0 Status: OK PackageFile: cfTools_1.7.0.tgz PackageFileSize: 1.193 MiB