Package: cfTools Version: 1.7.0 Command: /Library/Frameworks/R.framework/Resources/bin/R CMD INSTALL cfTools StartedAt: 2025-02-12 15:07:53 -0500 (Wed, 12 Feb 2025) EndedAt: 2025-02-12 15:08:07 -0500 (Wed, 12 Feb 2025) EllapsedTime: 13.7 seconds RetCode: 0 Status: OK