Package: cfTools Version: 1.7.0 Command: rm -rf cfTools.buildbin-libdir && mkdir cfTools.buildbin-libdir && /Users/biocbuild/BBS/utils/build-universal.sh cfTools_1.7.0.tar.gz /Library/Frameworks/R.framework/Resources/bin/R cfTools.buildbin-libdir StartedAt: 2025-02-10 00:45:59 -0500 (Mon, 10 Feb 2025) EndedAt: 2025-02-10 00:46:57 -0500 (Mon, 10 Feb 2025) EllapsedTime: 57.8 seconds RetCode: 0 Status: OK PackageFile: cfTools_1.7.0.tgz PackageFileSize: 1.201 MiB