Package: cfTools Version: 1.7.0 Command: /Library/Frameworks/R.framework/Resources/bin/R CMD check --install=check:cfTools.install-out.txt --library=/Library/Frameworks/R.framework/Resources/library --no-vignettes --timings cfTools_1.7.0.tar.gz StartedAt: 2025-02-09 19:41:07 -0500 (Sun, 09 Feb 2025) EndedAt: 2025-02-09 19:45:19 -0500 (Sun, 09 Feb 2025) EllapsedTime: 251.2 seconds RetCode: 0 Status: OK CheckDir: cfTools.Rcheck Warnings: 0