Package: cfTools Version: 1.7.0 Command: /Library/Frameworks/R.framework/Resources/bin/R CMD INSTALL cfTools StartedAt: 2025-02-09 15:17:00 -0500 (Sun, 09 Feb 2025) EndedAt: 2025-02-09 15:17:53 -0500 (Sun, 09 Feb 2025) EllapsedTime: 52.9 seconds RetCode: 0 Status: OK