Package: cfTools Version: 1.7.0 Command: /home/biocbuild/bbs-3.21-bioc/R/bin/R CMD build --keep-empty-dirs --no-resave-data cfTools StartedAt: 2025-02-09 16:36:22 -0500 (Sun, 09 Feb 2025) EndedAt: 2025-02-09 16:37:41 -0500 (Sun, 09 Feb 2025) EllapsedTime: 79.1 seconds RetCode: 0 Status: OK PackageFile: cfTools_1.7.0.tar.gz PackageFileSize: 1.076 MiB