Package: cfTools Version: 1.7.0 Command: /home/biocbuild/bbs-3.21-bioc/R/bin/R CMD INSTALL cfTools StartedAt: 2025-02-09 15:25:56 -0500 (Sun, 09 Feb 2025) EndedAt: 2025-02-09 15:26:40 -0500 (Sun, 09 Feb 2025) EllapsedTime: 44.2 seconds RetCode: 0 Status: OK