Package: cfTools Version: 1.7.0 Command: chmod a+r cfTools -R && E:\biocbuild\bbs-3.21-bioc\R\bin\R.exe --arch x64 CMD build --keep-empty-dirs --no-resave-data cfTools StartedAt: 2025-02-09 17:46:44 -0500 (Sun, 09 Feb 2025) EndedAt: 2025-02-09 17:52:46 -0500 (Sun, 09 Feb 2025) EllapsedTime: 361.9 seconds RetCode: 1 Status: ERROR PackageFile: None PackageFileSize: NA