Package: cfTools Version: 1.7.0 Command: E:\biocbuild\bbs-3.21-bioc\R\bin\R.exe CMD INSTALL cfTools StartedAt: 2025-02-09 15:48:26 -0500 (Sun, 09 Feb 2025) EndedAt: 2025-02-09 15:49:42 -0500 (Sun, 09 Feb 2025) EllapsedTime: 75.9 seconds RetCode: 0 Status: OK