Package: cfdnakit Version: 1.5.0 Command: /home/biocbuild/R/R/bin/R CMD build --keep-empty-dirs --no-resave-data cfdnakit StartedAt: 2025-01-28 21:43:55 -0000 (Tue, 28 Jan 2025) EndedAt: 2025-01-28 21:45:02 -0000 (Tue, 28 Jan 2025) EllapsedTime: 67.0 seconds RetCode: 0 Status: OK PackageFile: cfdnakit_1.5.0.tar.gz PackageFileSize: 2.709 MiB