Package: cfdnakit Version: 1.5.0 Command: /home/biocbuild/R/R/bin/R CMD check --install=check:cfdnakit.install-out.txt --library=/home/biocbuild/R/R/site-library --no-vignettes --timings cfdnakit_1.5.0.tar.gz StartedAt: 2025-01-28 09:04:24 -0000 (Tue, 28 Jan 2025) EndedAt: 2025-01-28 09:08:52 -0000 (Tue, 28 Jan 2025) EllapsedTime: 268.2 seconds RetCode: 0 Status: OK CheckDir: cfdnakit.Rcheck Warnings: 0