Package: cfdnakit Version: 1.5.0 Command: /Library/Frameworks/R.framework/Resources/bin/R CMD build --keep-empty-dirs --no-resave-data cfdnakit StartedAt: 2025-02-12 16:11:36 -0500 (Wed, 12 Feb 2025) EndedAt: 2025-02-12 16:12:24 -0500 (Wed, 12 Feb 2025) EllapsedTime: 48.0 seconds RetCode: 0 Status: OK PackageFile: cfdnakit_1.5.0.tar.gz PackageFileSize: 3.021 MiB