Package: cfdnakit Version: 1.5.0 Command: rm -rf cfdnakit.buildbin-libdir && mkdir cfdnakit.buildbin-libdir && E:\biocbuild\bbs-3.21-bioc\R\bin\R.exe CMD INSTALL --build --library=cfdnakit.buildbin-libdir cfdnakit_1.5.0.tar.gz StartedAt: 2025-02-10 07:25:06 -0500 (Mon, 10 Feb 2025) EndedAt: 2025-02-10 07:26:01 -0500 (Mon, 10 Feb 2025) EllapsedTime: 55.6 seconds RetCode: 0 Status: OK PackageFile: cfdnakit_1.5.0.zip PackageFileSize: 2.582 MiB