Package: chevreulPlot Version: 0.99.30 Command: /Library/Frameworks/R.framework/Resources/bin/R CMD build --keep-empty-dirs --no-resave-data chevreulPlot StartedAt: 2025-02-09 16:14:38 -0500 (Sun, 09 Feb 2025) EndedAt: 2025-02-09 16:14:40 -0500 (Sun, 09 Feb 2025) EllapsedTime: 2.3 seconds RetCode: 1 Status: ERROR PackageFile: None PackageFileSize: NA