Package: chevreulPlot Version: 0.99.30 Command: /Library/Frameworks/R.framework/Resources/bin/R CMD INSTALL chevreulPlot StartedAt: 2025-02-09 15:51:06 -0500 (Sun, 09 Feb 2025) EndedAt: 2025-02-09 15:51:06 -0500 (Sun, 09 Feb 2025) EllapsedTime: 0.3 seconds RetCode: 1 Status: ERROR