Package: chevreulPlot Version: 0.99.30 Command: /home/biocbuild/bbs-3.21-bioc/R/bin/R CMD build --keep-empty-dirs --no-resave-data chevreulPlot StartedAt: 2025-02-09 16:37:15 -0500 (Sun, 09 Feb 2025) EndedAt: 2025-02-09 16:37:16 -0500 (Sun, 09 Feb 2025) EllapsedTime: 1.0 seconds RetCode: 1 Status: ERROR PackageFile: None PackageFileSize: NA