############################################################################## ############################################################################## ### ### Running command: ### ### chmod a+r chevreulPlot -R && E:\biocbuild\bbs-3.21-bioc\R\bin\R.exe CMD build --keep-empty-dirs --no-resave-data chevreulPlot ### ############################################################################## ############################################################################## * checking for file 'chevreulPlot/DESCRIPTION' ... OK * preparing 'chevreulPlot': * checking DESCRIPTION meta-information ... OK * installing the package to build vignettes ----------------------------------- ERROR: dependency 'chevreuldata' is not available for package 'chevreulPlot' Perhaps try a variation of: install.packages('chevreuldata') * removing 'E:/biocbuild/bbs-3.21-bioc/tmpdir/Rtmpe8GfOe/Rinst12ee479ee3a3/chevreulPlot' ----------------------------------- ERROR: package installation failed