Package: chevreulPlot Version: 0.99.30 Command: E:\biocbuild\bbs-3.21-bioc\R\bin\R.exe CMD INSTALL chevreulPlot StartedAt: 2025-02-09 17:07:52 -0500 (Sun, 09 Feb 2025) EndedAt: 2025-02-09 17:07:53 -0500 (Sun, 09 Feb 2025) EllapsedTime: 0.4 seconds RetCode: 1 Status: ERROR