Package: chevreulProcess Version: 0.99.25 Maintainer: Kevin Stachelek MaintainerEmail: kevin.stachelek at gmail.com git_url: https://git.bioconductor.org/packages/chevreulProcess git_branch: devel git_last_commit: 662b5ab git_last_commit_date: 2025-01-27 14:31:33 -0500 (Mon, 27 Jan 2025)