Package: chevreulProcess Version: 0.99.25 Command: /Library/Frameworks/R.framework/Resources/bin/R CMD build --keep-empty-dirs --no-resave-data chevreulProcess StartedAt: 2025-02-04 15:52:09 -0500 (Tue, 04 Feb 2025) EndedAt: 2025-02-04 15:52:34 -0500 (Tue, 04 Feb 2025) EllapsedTime: 24.3 seconds RetCode: 1 Status: ERROR PackageFile: None PackageFileSize: NA