Package: chevreulProcess Version: 0.99.25 Command: /Library/Frameworks/R.framework/Resources/bin/R CMD build --keep-empty-dirs --no-resave-data chevreulProcess StartedAt: 2025-02-04 16:11:40 -0500 (Tue, 04 Feb 2025) EndedAt: 2025-02-04 16:12:46 -0500 (Tue, 04 Feb 2025) EllapsedTime: 66.1 seconds RetCode: 1 Status: ERROR PackageFile: None PackageFileSize: NA