Package: chevreulProcess Version: 0.99.25 Command: /Library/Frameworks/R.framework/Resources/bin/R CMD INSTALL chevreulProcess StartedAt: 2025-02-04 15:40:00 -0500 (Tue, 04 Feb 2025) EndedAt: 2025-02-04 15:41:07 -0500 (Tue, 04 Feb 2025) EllapsedTime: 67.7 seconds RetCode: 0 Status: OK