Package: chevreulProcess Version: 0.99.25 Command: /home/biocbuild/bbs-3.21-bioc/R/bin/R CMD build --keep-empty-dirs --no-resave-data chevreulProcess StartedAt: 2025-02-04 16:34:36 -0500 (Tue, 04 Feb 2025) EndedAt: 2025-02-04 16:35:43 -0500 (Tue, 04 Feb 2025) EllapsedTime: 66.2 seconds RetCode: 1 Status: ERROR PackageFile: None PackageFileSize: NA