Package: chevreulProcess Version: 0.99.25 Command: /home/biocbuild/bbs-3.21-bioc/R/bin/R CMD INSTALL chevreulProcess StartedAt: 2025-02-04 15:52:22 -0500 (Tue, 04 Feb 2025) EndedAt: 2025-02-04 15:53:14 -0500 (Tue, 04 Feb 2025) EllapsedTime: 52.6 seconds RetCode: 0 Status: OK