Package: chevreulProcess Version: 0.99.25 Command: chmod a+r chevreulProcess -R && E:\biocbuild\bbs-3.21-bioc\R\bin\R.exe CMD build --keep-empty-dirs --no-resave-data chevreulProcess StartedAt: 2025-02-04 17:45:51 -0500 (Tue, 04 Feb 2025) EndedAt: 2025-02-04 17:47:36 -0500 (Tue, 04 Feb 2025) EllapsedTime: 105.3 seconds RetCode: 1 Status: ERROR PackageFile: None PackageFileSize: NA