Package: chevreulProcess Version: 0.99.25 Command: E:\biocbuild\bbs-3.21-bioc\R\bin\R.exe CMD INSTALL chevreulProcess StartedAt: 2025-02-04 16:46:21 -0500 (Tue, 04 Feb 2025) EndedAt: 2025-02-04 16:47:30 -0500 (Tue, 04 Feb 2025) EllapsedTime: 69.0 seconds RetCode: 0 Status: OK