Package: chevreulShiny Version: 0.99.26 Maintainer: Kevin Stachelek MaintainerEmail: kevin.stachelek at gmail.com git_url: https://git.bioconductor.org/packages/chevreulShiny git_branch: devel git_last_commit: 1a8d186 git_last_commit_date: 2025-01-27 17:41:56 -0500 (Mon, 27 Jan 2025)