Package: chevreulShiny Version: 0.99.26 Command: /Library/Frameworks/R.framework/Resources/bin/R CMD INSTALL chevreulShiny StartedAt: 2025-02-04 15:31:08 -0500 (Tue, 04 Feb 2025) EndedAt: 2025-02-04 15:31:08 -0500 (Tue, 04 Feb 2025) EllapsedTime: 0.1 seconds RetCode: 1 Status: ERROR