Package: chevreulShiny Version: 0.99.26 Command: /Library/Frameworks/R.framework/Resources/bin/R CMD build --keep-empty-dirs --no-resave-data chevreulShiny StartedAt: 2025-02-04 16:11:44 -0500 (Tue, 04 Feb 2025) EndedAt: 2025-02-04 16:11:45 -0500 (Tue, 04 Feb 2025) EllapsedTime: 1.2 seconds RetCode: 1 Status: ERROR PackageFile: None PackageFileSize: NA