Package: chevreulShiny Version: 0.99.26 Command: /home/biocbuild/bbs-3.21-bioc/R/bin/R CMD INSTALL chevreulShiny StartedAt: 2025-02-04 16:04:06 -0500 (Tue, 04 Feb 2025) EndedAt: 2025-02-04 16:04:07 -0500 (Tue, 04 Feb 2025) EllapsedTime: 0.2 seconds RetCode: 1 Status: ERROR