Package: chihaya Version: 1.7.0 Command: /Library/Frameworks/R.framework/Resources/bin/R CMD INSTALL chihaya StartedAt: 2025-02-12 15:03:49 -0500 (Wed, 12 Feb 2025) EndedAt: 2025-02-12 15:04:01 -0500 (Wed, 12 Feb 2025) EllapsedTime: 12.0 seconds RetCode: 0 Status: OK