Package: chihaya Version: 1.7.0 Command: /home/biocbuild/R/R/bin/R CMD build --keep-empty-dirs --no-resave-data chihaya StartedAt: 2025-01-28 21:46:21 -0000 (Tue, 28 Jan 2025) EndedAt: 2025-01-28 21:47:22 -0000 (Tue, 28 Jan 2025) EllapsedTime: 61.0 seconds RetCode: 0 Status: OK PackageFile: chihaya_1.7.0.tar.gz PackageFileSize: 284.4 KiB