Package: chihaya Version: 1.7.0 Command: /Library/Frameworks/R.framework/Resources/bin/R CMD build --keep-empty-dirs --no-resave-data chihaya StartedAt: 2025-02-09 16:14:53 -0500 (Sun, 09 Feb 2025) EndedAt: 2025-02-09 16:15:44 -0500 (Sun, 09 Feb 2025) EllapsedTime: 51.4 seconds RetCode: 0 Status: OK PackageFile: chihaya_1.7.0.tar.gz PackageFileSize: 258.1 KiB