Package: chihaya Version: 1.7.0 Command: /Library/Frameworks/R.framework/Resources/bin/R CMD check --install=check:chihaya.install-out.txt --library=/Library/Frameworks/R.framework/Resources/library --no-vignettes --timings chihaya_1.7.0.tar.gz StartedAt: 2025-02-09 19:42:24 -0500 (Sun, 09 Feb 2025) EndedAt: 2025-02-09 19:45:21 -0500 (Sun, 09 Feb 2025) EllapsedTime: 177.3 seconds RetCode: 0 Status: WARNINGS CheckDir: chihaya.Rcheck Warnings: 1