Package: chihaya Version: 1.7.0 Command: /Library/Frameworks/R.framework/Resources/bin/R CMD INSTALL chihaya StartedAt: 2025-02-09 15:12:20 -0500 (Sun, 09 Feb 2025) EndedAt: 2025-02-09 15:13:05 -0500 (Sun, 09 Feb 2025) EllapsedTime: 44.4 seconds RetCode: 0 Status: OK