Package: chihaya Version: 1.7.0 Command: /home/biocbuild/bbs-3.21-bioc/R/bin/R CMD INSTALL chihaya StartedAt: 2025-02-09 15:34:48 -0500 (Sun, 09 Feb 2025) EndedAt: 2025-02-09 15:35:24 -0500 (Sun, 09 Feb 2025) EllapsedTime: 35.8 seconds RetCode: 0 Status: OK