Package: chihaya Version: 1.7.0 Command: E:\biocbuild\bbs-3.21-bioc\R\bin\R.exe CMD INSTALL chihaya StartedAt: 2025-02-09 15:54:12 -0500 (Sun, 09 Feb 2025) EndedAt: 2025-02-09 15:55:13 -0500 (Sun, 09 Feb 2025) EllapsedTime: 61.2 seconds RetCode: 0 Status: OK