Package: chimeraviz Version: 1.33.0 Command: /Library/Frameworks/R.framework/Resources/bin/R CMD build --keep-empty-dirs --no-resave-data chimeraviz StartedAt: 2025-02-09 16:14:53 -0500 (Sun, 09 Feb 2025) EndedAt: 2025-02-09 16:19:08 -0500 (Sun, 09 Feb 2025) EllapsedTime: 255.0 seconds RetCode: 0 Status: OK PackageFile: chimeraviz_1.33.0.tar.gz PackageFileSize: 4.108 MiB