Package: chimeraviz Version: 1.33.0 Command: chmod a+r chimeraviz -R && E:\biocbuild\bbs-3.21-bioc\R\bin\R.exe CMD build --keep-empty-dirs --no-resave-data chimeraviz StartedAt: 2025-02-09 17:48:19 -0500 (Sun, 09 Feb 2025) EndedAt: 2025-02-09 17:53:21 -0500 (Sun, 09 Feb 2025) EllapsedTime: 302.2 seconds RetCode: 0 Status: OK PackageFile: chimeraviz_1.33.0.tar.gz PackageFileSize: 2.736 MiB